BEGIN:VCALENDAR
VERSION:2.0
PRODID:-//Wisconsin Hero Outdoors - ECPv6.15.18//NONSGML v1.0//EN
CALSCALE:GREGORIAN
METHOD:PUBLISH
X-ORIGINAL-URL:https://wiherooutdoors.org
X-WR-CALDESC:Events for Wisconsin Hero Outdoors
REFRESH-INTERVAL;VALUE=DURATION:PT1H
X-Robots-Tag:noindex
X-PUBLISHED-TTL:PT1H
BEGIN:VTIMEZONE
TZID:America/Chicago
BEGIN:DAYLIGHT
TZOFFSETFROM:-0600
TZOFFSETTO:-0500
TZNAME:CDT
DTSTART:20200308T080000
END:DAYLIGHT
BEGIN:STANDARD
TZOFFSETFROM:-0500
TZOFFSETTO:-0600
TZNAME:CST
DTSTART:20201101T070000
END:STANDARD
BEGIN:DAYLIGHT
TZOFFSETFROM:-0600
TZOFFSETTO:-0500
TZNAME:CDT
DTSTART:20210314T080000
END:DAYLIGHT
BEGIN:STANDARD
TZOFFSETFROM:-0500
TZOFFSETTO:-0600
TZNAME:CST
DTSTART:20211107T070000
END:STANDARD
BEGIN:DAYLIGHT
TZOFFSETFROM:-0600
TZOFFSETTO:-0500
TZNAME:CDT
DTSTART:20220313T080000
END:DAYLIGHT
BEGIN:STANDARD
TZOFFSETFROM:-0500
TZOFFSETTO:-0600
TZNAME:CST
DTSTART:20221106T070000
END:STANDARD
BEGIN:DAYLIGHT
TZOFFSETFROM:-0600
TZOFFSETTO:-0500
TZNAME:CDT
DTSTART:20230312T080000
END:DAYLIGHT
BEGIN:STANDARD
TZOFFSETFROM:-0500
TZOFFSETTO:-0600
TZNAME:CST
DTSTART:20231105T070000
END:STANDARD
END:VTIMEZONE
BEGIN:VEVENT
DTSTART;VALUE=DATE:20220624
DTEND;VALUE=DATE:20220627
DTSTAMP:20260425T151124
CREATED:20220505T212138Z
LAST-MODIFIED:20220505T212138Z
UID:1155-1656028800-1656287999@wiherooutdoors.org
SUMMARY:Camping\, Fishing\, Kayaking
DESCRIPTION:
URL:https://wiherooutdoors.org/calendar/camping-fishing-kayaking
LOCATION:Lake Kegonsa
END:VEVENT
BEGIN:VEVENT
DTSTART;VALUE=DATE:20220624
DTEND;VALUE=DATE:20220627
DTSTAMP:20260425T151124
CREATED:20220308T202644Z
LAST-MODIFIED:20220308T202644Z
UID:1035-1656028800-1656287999@wiherooutdoors.org
SUMMARY:Camping Trip
DESCRIPTION:please email Nick Harnish for more details\nnharnish@wiherooutdoors.org
URL:https://wiherooutdoors.org/calendar/camping-trip
LOCATION:Lake Kegonsa
END:VEVENT
BEGIN:VEVENT
DTSTART;TZID=America/Chicago:20220622T173000
DTEND;TZID=America/Chicago:20220622T200000
DTSTAMP:20260425T151124
CREATED:20220505T212040Z
LAST-MODIFIED:20220505T212040Z
UID:1152-1655919000-1655928000@wiherooutdoors.org
SUMMARY:"22" Dinner
DESCRIPTION:5:30pm Doors Open \n6:30pm Brats\, Burgers and Hot Dogs \nPresentation to follow \n\nPewaukee Yacht Club \nN22 W28204 Edgewater Dr. \nPewaukee\, WI \n  \nRSVP: Tsawyer@wiherooutdoors.org
URL:https://wiherooutdoors.org/calendar/22-dinner-2
LOCATION:Pewaukee Yacht Club
END:VEVENT
BEGIN:VEVENT
DTSTART;VALUE=DATE:20220618
DTEND;VALUE=DATE:20220619
DTSTAMP:20260425T151124
CREATED:20220207T193043Z
LAST-MODIFIED:20220412T150952Z
UID:954-1655510400-1655596799@wiherooutdoors.org
SUMMARY:Charity Ride
DESCRIPTION:3rd Annual Charity Ride\nEvent details: \n9:30am-11:00am\nRegistration at Wisconsin Harley Davidson in Oconomowoc \n11:00am-11:20am\nOpening Remarks and Safety Brief \n11:30am\nWheels Up \n12:30pm-1:30pm\nKnucklehead Pub \n2:00pm-3:00pm\nPapa Stache \n3:30pm-4:30pm\nWisconsin Hero Outdoors HQ Meet & Greet \n5:30pm- UTC\nPost ride BBQ Buffet at Boondocks BBQ Burgers and Brew with special music guest\, Breaking Cadence \nPurchase tickets online  \n 
URL:https://wiherooutdoors.org/calendar/charity-ride
END:VEVENT
BEGIN:VEVENT
DTSTART;TZID=America/Chicago:20220614T100000
DTEND;TZID=America/Chicago:20220614T140000
DTSTAMP:20260425T151124
CREATED:20220505T211834Z
LAST-MODIFIED:20220505T211834Z
UID:1150-1655200800-1655215200@wiherooutdoors.org
SUMMARY:Kayak & Fishing
DESCRIPTION:
URL:https://wiherooutdoors.org/calendar/kayak-fishing-5
LOCATION:Lake Tomah
END:VEVENT
BEGIN:VEVENT
DTSTART;TZID=America/Chicago:20220611T110000
DTEND;TZID=America/Chicago:20220611T130000
DTSTAMP:20260425T151124
CREATED:20220307T174230Z
LAST-MODIFIED:20220307T174230Z
UID:996-1654945200-1654952400@wiherooutdoors.org
SUMMARY:LCC- K9 Comfort Dog Regional Gathering
DESCRIPTION:
URL:https://wiherooutdoors.org/calendar/lcc-k9-comfort-dog-regional-gathering
END:VEVENT
BEGIN:VEVENT
DTSTART;TZID=America/Chicago:20220611T090000
DTEND;TZID=America/Chicago:20220611T170000
DTSTAMP:20260425T151124
CREATED:20220505T211542Z
LAST-MODIFIED:20220505T211542Z
UID:1148-1654938000-1654966800@wiherooutdoors.org
SUMMARY:CVMA WI chapter 45-6 4th Annual Vet's Ride
DESCRIPTION:Ride to start at Wisconsin Harley Davidson with stops at Aero Park\, Ft Atkinson VFW\, The Bunker and end at New Berlin VFW in New Berlin. Food plate will be provided at New Berlin VFW by LD’s BBQ with proof of paid registration. \n  \nPlease visit the Facebook page for details:\nhttps://www.facebook.com/events/580608216473612?acontext=%7B%22event_action_history%22%3A[%7B%22surface%22%3A%22page%22%7D]%7D
URL:https://wiherooutdoors.org/calendar/cvma-wi-chapter-45-6-4th-annual-vets-ride
END:VEVENT
BEGIN:VEVENT
DTSTART;TZID=America/Chicago:20220601T103000
DTEND;TZID=America/Chicago:20220601T133000
DTSTAMP:20260425T151124
CREATED:20220505T211143Z
LAST-MODIFIED:20220505T211143Z
UID:1146-1654079400-1654090200@wiherooutdoors.org
SUMMARY:Kayak Safety Training
DESCRIPTION:
URL:https://wiherooutdoors.org/calendar/kayak-safety-training-3
LOCATION:Pewaukee Lake
END:VEVENT
BEGIN:VEVENT
DTSTART;VALUE=DATE:20220521
DTEND;VALUE=DATE:20220522
DTSTAMP:20260425T151124
CREATED:20220505T211021Z
LAST-MODIFIED:20220505T211021Z
UID:1144-1653091200-1653177599@wiherooutdoors.org
SUMMARY:Women's Event
DESCRIPTION:Time & Location TBD\nPlease email tsawyer@wiherooutdoors.org for further details
URL:https://wiherooutdoors.org/calendar/womens-event
END:VEVENT
BEGIN:VEVENT
DTSTART;TZID=America/Chicago:20220409T163000
DTEND;TZID=America/Chicago:20220409T220000
DTSTAMP:20260425T151124
CREATED:20220307T174027Z
LAST-MODIFIED:20220406T192056Z
UID:992-1649521800-1649541600@wiherooutdoors.org
SUMMARY:Game Dinner
DESCRIPTION:Doors open at 4:30pm\nDinner at 7:30pm \n\nAwesome Meat Buffet\nDinner & Open Bar\nAdmission ticket includes a chance to win a gun!\nLive & Silent Auctions\nLots of Raffles!\nYour chance to win guns\, fishing\, and archery equipment!\nSeveral Games of Skill to play!\n\nIndividual: $75 per person\nSponsor’s Table: $1\,500 includes a Reserved table of eight individual tickets\, priority seating\, a gift for all individuals\, and a table gift valued at $500! \nPlease see the flyer for further details \nGame Dinner Flyer 2022
URL:https://wiherooutdoors.org/calendar/game-dinner
LOCATION:Okauchee Lion’s Park
END:VEVENT
BEGIN:VEVENT
DTSTART;VALUE=DATE:20220408
DTEND;VALUE=DATE:20220412
DTSTAMP:20260425T151124
CREATED:20220126T173655Z
LAST-MODIFIED:20220404T182649Z
UID:922-1649376000-1649721599@wiherooutdoors.org
SUMMARY:Women's Veterans and First Responder Retreat
DESCRIPTION:Lake Geneva\, WI\nDetails to follow
URL:https://wiherooutdoors.org/calendar/ladies-retreat
END:VEVENT
BEGIN:VEVENT
DTSTART;TZID=America/Chicago:20220319T110000
DTEND;TZID=America/Chicago:20220319T143000
DTSTAMP:20260425T151124
CREATED:20220303T140602Z
LAST-MODIFIED:20220314T144740Z
UID:984-1647687600-1647700200@wiherooutdoors.org
SUMMARY:Discover SCUBA - Women's Event
DESCRIPTION:Mar 19th\nOconomowoc YMCA \nThe “Discover Scuba” program https://www.padi.com/courses/discover-scuba-diving taught by the female staff at Stillwater Diving is a great way to ease into learning. The event will be held in the pool at the YMCA at Pabst Farms beginning with poolside instructions on equipment\, safety and basics followed by shallow end skills where you can stand the entire time. As you develop confidence you can progress to the deep (12 ft) end and enjoy using your skills!
URL:https://wiherooutdoors.org/calendar/discover-scuba-womens-event
LOCATION:Oconomowoc YMCA\, 1750 East Valley Road\, Oconomowoc\, WI\, 53066\, United States
END:VEVENT
BEGIN:VEVENT
DTSTART;VALUE=DATE:20220314
DTEND;VALUE=DATE:20220315
DTSTAMP:20260425T151124
CREATED:20220303T144811Z
LAST-MODIFIED:20220303T144811Z
UID:986-1647216000-1647302399@wiherooutdoors.org
SUMMARY:Maple Syrup Harvesting
DESCRIPTION:Please reach out to Camp American Legion for more details\n(715) 277-2510
URL:https://wiherooutdoors.org/calendar/maple-syrup-harvesting
END:VEVENT
BEGIN:VEVENT
DTSTART;VALUE=DATE:20220226
DTEND;VALUE=DATE:20220301
DTSTAMP:20260425T151124
CREATED:20220216T202153Z
LAST-MODIFIED:20220216T202743Z
UID:957-1645833600-1646092799@wiherooutdoors.org
SUMMARY:Winter Warrior Weekend
DESCRIPTION:Ice Event – We apologize but all spots are filled
URL:https://wiherooutdoors.org/calendar/winter-warrior-weekend
LOCATION:Camp American Legion\, 8529 County D\, Lake Tomahawk
END:VEVENT
BEGIN:VEVENT
DTSTART;TZID=America/Chicago:20220219T130000
DTEND;TZID=America/Chicago:20220219T150000
DTSTAMP:20260425T151124
CREATED:20220207T192638Z
LAST-MODIFIED:20220207T192638Z
UID:949-1645275600-1645282800@wiherooutdoors.org
SUMMARY:Snow Shoe Hike at Hunt Hill Audubon Sanctuary
DESCRIPTION:Snow shoes available to First 15 Vets & First Responders to register – Free! \nHot Beverages & Bon Fire to follow \nTo register call: \nJeff Butler @ 715-566-1304
URL:https://wiherooutdoors.org/calendar/snow-shoe-hike-at-hunt-hill-audubon-sanctuary
LOCATION:Hunt Hill Nature Sanctuary\, N2384 Hunt Hill Road\, Sarona\, WI\, United States
END:VEVENT
BEGIN:VEVENT
DTSTART;TZID=America/Chicago:20220211T080000
DTEND;TZID=America/Chicago:20220213T170000
DTSTAMP:20260425T151124
CREATED:20220126T173802Z
LAST-MODIFIED:20220126T173802Z
UID:925-1644566400-1644771600@wiherooutdoors.org
SUMMARY:Sturgeon Spearing
DESCRIPTION:Fond du Lac
URL:https://wiherooutdoors.org/calendar/sturgeon-spearing-2
END:VEVENT
BEGIN:VEVENT
DTSTART;TZID=America/Chicago:20220205T080000
DTEND;TZID=America/Chicago:20220205T170000
DTSTAMP:20260425T151124
CREATED:20220126T164040Z
LAST-MODIFIED:20220126T164040Z
UID:918-1644048000-1644080400@wiherooutdoors.org
SUMMARY:Ice Fishing Outing - Nelson WI (Mississippi backwaters)
DESCRIPTION:Free for all veterans\, active service members\, first responders and their families! Join us for an outing on the backwaters of the Mississippi River Pool 4 in Nelson\, WI (just across from Waubesha\, MN)! A fun fishery with excellent views.\nPlease RSVP here or to our NW WI Coordinator Tyler Thiede at tthiede@wiherooutdoors.org so we can plan food. We will be providing bottled water\, brats\, chips\, and hot dogs (we will be grilling on the ice).\nTyler’s 8″ electric ice auger will be available for use. We will have live bait from Glenwood City Bait and Bow\, a local veteran owned business for everyone to use.\nIf you need any other gear (poles\, chairs\, etc) please reach out to our NW WI Coordinator Tyler Thiede at tthiede@wiherooutdoors.org.\nWe will be launching from the Beef Slough boat launch here: 44°24’13.7″N 92°01’08.2″W\nhttps://goo.gl/maps/docN3hYLAggyRWG37
URL:https://wiherooutdoors.org/calendar/ice-fishing-outing-nelson-wi-mississippi-backwaters
LOCATION:Nelson\, WI
END:VEVENT
BEGIN:VEVENT
DTSTART;TZID=America/Chicago:20220129T090000
DTEND;TZID=America/Chicago:20220129T150000
DTSTAMP:20260425T151124
CREATED:20220207T192202Z
LAST-MODIFIED:20220207T192202Z
UID:946-1643446800-1643468400@wiherooutdoors.org
SUMMARY:Ice Fishing
DESCRIPTION:Smith Lake (near Hayward) Meet at Eytcheson Park 9:00am to 3:00pm \nFirst 15 Veterans & First Responders to register will have holes drilled and available ice shacks. Transportation provided to ice shacks. \nNo competition\, Free Lunch\, Just Fun. \nTo register call: \nPat Brown @ 715-475-9933 \nJeff Butler @ 715-566-1304
URL:https://wiherooutdoors.org/calendar/ice-fishing-11
LOCATION:Eytcheson Park
END:VEVENT
BEGIN:VEVENT
DTSTART;TZID=America/Chicago:20220123T080000
DTEND;TZID=America/Chicago:20220123T140000
DTSTAMP:20260425T151124
CREATED:20220127T134918Z
LAST-MODIFIED:20220127T134918Z
UID:942-1642924800-1642946400@wiherooutdoors.org
SUMMARY:Ice Fishing
DESCRIPTION:
URL:https://wiherooutdoors.org/calendar/ice-fishing-10
LOCATION:Nelson\, WI
END:VEVENT
BEGIN:VEVENT
DTSTART;TZID=America/Chicago:20220123T080000
DTEND;TZID=America/Chicago:20220123T130000
DTSTAMP:20260425T151124
CREATED:20220126T161543Z
LAST-MODIFIED:20220126T162013Z
UID:913-1642924800-1642942800@wiherooutdoors.org
SUMMARY:Ice Fishing
DESCRIPTION:Kelly Lake
URL:https://wiherooutdoors.org/calendar/ice-fishing
LOCATION:Camp Shangri La\, 12415 W Grange Ave\,\, New Berlin\, WI\, 53151\, United States
END:VEVENT
BEGIN:VEVENT
DTSTART;TZID=America/Chicago:20220122T080000
DTEND;TZID=America/Chicago:20220122T140000
DTSTAMP:20260425T151124
CREATED:20220127T134519Z
LAST-MODIFIED:20220127T134519Z
UID:940-1642838400-1642860000@wiherooutdoors.org
SUMMARY:Ice Fishing
DESCRIPTION:
URL:https://wiherooutdoors.org/calendar/ice-fishing-9
LOCATION:Eau Galle Reservoir
END:VEVENT
BEGIN:VEVENT
DTSTART;TZID=America/Chicago:20220115T080000
DTEND;TZID=America/Chicago:20220115T140000
DTSTAMP:20260425T151124
CREATED:20220127T134444Z
LAST-MODIFIED:20220127T134444Z
UID:938-1642233600-1642255200@wiherooutdoors.org
SUMMARY:Ice Fishing
DESCRIPTION:
URL:https://wiherooutdoors.org/calendar/ice-fishing-8
LOCATION:Eau Galle Reservoir
END:VEVENT
BEGIN:VEVENT
DTSTART;TZID=America/Chicago:20220115T080000
DTEND;TZID=America/Chicago:20220115T130000
DTSTAMP:20260425T151124
CREATED:20220126T163523Z
LAST-MODIFIED:20220126T163523Z
UID:916-1642233600-1642251600@wiherooutdoors.org
SUMMARY:Ice Fishing
DESCRIPTION:Lake Ripley\, WI
URL:https://wiherooutdoors.org/calendar/ice-fishing-2
END:VEVENT
BEGIN:VEVENT
DTSTART;TZID=America/Chicago:20220109T080000
DTEND;TZID=America/Chicago:20220109T140000
DTSTAMP:20260425T151124
CREATED:20220127T134411Z
LAST-MODIFIED:20220127T134411Z
UID:936-1641715200-1641736800@wiherooutdoors.org
SUMMARY:Ice Fishing
DESCRIPTION:
URL:https://wiherooutdoors.org/calendar/ice-fishing-7
LOCATION:Eau Galle Reservoir
END:VEVENT
BEGIN:VEVENT
DTSTART;TZID=America/Chicago:20220108T080000
DTEND;TZID=America/Chicago:20220108T140000
DTSTAMP:20260425T151124
CREATED:20220127T134324Z
LAST-MODIFIED:20220127T134324Z
UID:934-1641628800-1641650400@wiherooutdoors.org
SUMMARY:Ice Fishing
DESCRIPTION:
URL:https://wiherooutdoors.org/calendar/ice-fishing-6
LOCATION:Eau Galle Reservoir
END:VEVENT
BEGIN:VEVENT
DTSTART;TZID=America/Chicago:20220102T080000
DTEND;TZID=America/Chicago:20220102T140000
DTSTAMP:20260425T151124
CREATED:20220127T134243Z
LAST-MODIFIED:20220127T134243Z
UID:932-1641110400-1641132000@wiherooutdoors.org
SUMMARY:Ice Fishing
DESCRIPTION:
URL:https://wiherooutdoors.org/calendar/ice-fishing-5
LOCATION:Eau Galle Reservoir
END:VEVENT
BEGIN:VEVENT
DTSTART;TZID=America/Chicago:20211231T080000
DTEND;TZID=America/Chicago:20211231T130000
DTSTAMP:20260425T151124
CREATED:20220127T134159Z
LAST-MODIFIED:20220127T134159Z
UID:930-1640937600-1640955600@wiherooutdoors.org
SUMMARY:Ice Fishing
DESCRIPTION:
URL:https://wiherooutdoors.org/calendar/ice-fishing-4
LOCATION:Eau Galle Reservoir
END:VEVENT
BEGIN:VEVENT
DTSTART;TZID=America/Chicago:20211230T080000
DTEND;TZID=America/Chicago:20211230T130000
DTSTAMP:20260425T151124
CREATED:20220127T134115Z
LAST-MODIFIED:20220127T134115Z
UID:927-1640851200-1640869200@wiherooutdoors.org
SUMMARY:Ice Fishing
DESCRIPTION:
URL:https://wiherooutdoors.org/calendar/ice-fishing-3
LOCATION:Eau Galle Reservoir
END:VEVENT
BEGIN:VEVENT
DTSTART;TZID=America/Chicago:20211109T173000
DTEND;TZID=America/Chicago:20211109T190000
DTSTAMP:20260425T151124
CREATED:20211001T155840Z
LAST-MODIFIED:20211001T155840Z
UID:902-1636479000-1636484400@wiherooutdoors.org
SUMMARY:Fly Tying
DESCRIPTION:
URL:https://wiherooutdoors.org/calendar/fly-tying
LOCATION:Headquarters\, W329S690 Kettle Moraine Dr\, Delafield\, Wisconsin\, 53018
END:VEVENT
BEGIN:VEVENT
DTSTART;TZID=America/Chicago:20211022T173000
DTEND;TZID=America/Chicago:20211022T210000
DTSTAMP:20260425T151124
CREATED:20211001T155630Z
LAST-MODIFIED:20211001T155630Z
UID:898-1634923800-1634936400@wiherooutdoors.org
SUMMARY:"22" Dinner
DESCRIPTION:
URL:https://wiherooutdoors.org/calendar/22-dinner
LOCATION:Brookfield Lutheran Church\, 18500 W. Burleigh Rd.\, Brookfield\, WI\, 53045\, United States
END:VEVENT
END:VCALENDAR