BEGIN:VCALENDAR
VERSION:2.0
PRODID:-//Wisconsin Hero Outdoors - ECPv6.15.18//NONSGML v1.0//EN
CALSCALE:GREGORIAN
METHOD:PUBLISH
X-ORIGINAL-URL:https://wiherooutdoors.org
X-WR-CALDESC:Events for Wisconsin Hero Outdoors
REFRESH-INTERVAL;VALUE=DURATION:PT1H
X-Robots-Tag:noindex
X-PUBLISHED-TTL:PT1H
BEGIN:VTIMEZONE
TZID:America/Chicago
BEGIN:DAYLIGHT
TZOFFSETFROM:-0600
TZOFFSETTO:-0500
TZNAME:CDT
DTSTART:20220313T080000
END:DAYLIGHT
BEGIN:STANDARD
TZOFFSETFROM:-0500
TZOFFSETTO:-0600
TZNAME:CST
DTSTART:20221106T070000
END:STANDARD
BEGIN:DAYLIGHT
TZOFFSETFROM:-0600
TZOFFSETTO:-0500
TZNAME:CDT
DTSTART:20230312T080000
END:DAYLIGHT
BEGIN:STANDARD
TZOFFSETFROM:-0500
TZOFFSETTO:-0600
TZNAME:CST
DTSTART:20231105T070000
END:STANDARD
BEGIN:DAYLIGHT
TZOFFSETFROM:-0600
TZOFFSETTO:-0500
TZNAME:CDT
DTSTART:20240310T080000
END:DAYLIGHT
BEGIN:STANDARD
TZOFFSETFROM:-0500
TZOFFSETTO:-0600
TZNAME:CST
DTSTART:20241103T070000
END:STANDARD
BEGIN:DAYLIGHT
TZOFFSETFROM:-0600
TZOFFSETTO:-0500
TZNAME:CDT
DTSTART:20250309T080000
END:DAYLIGHT
BEGIN:STANDARD
TZOFFSETFROM:-0500
TZOFFSETTO:-0600
TZNAME:CST
DTSTART:20251102T070000
END:STANDARD
BEGIN:DAYLIGHT
TZOFFSETFROM:-0600
TZOFFSETTO:-0500
TZNAME:CDT
DTSTART:20260308T080000
END:DAYLIGHT
BEGIN:STANDARD
TZOFFSETFROM:-0500
TZOFFSETTO:-0600
TZNAME:CST
DTSTART:20261101T070000
END:STANDARD
END:VTIMEZONE
BEGIN:VEVENT
DTSTART;TZID=America/Chicago:20250118T080000
DTEND;TZID=America/Chicago:20250118T130000
DTSTAMP:20260425T085115
CREATED:20241120T210122Z
LAST-MODIFIED:20241126T151559Z
UID:1504-1737187200-1737205200@wiherooutdoors.org
SUMMARY:Wisconsin National Guard Child and Youth Ice Fishing *** Volunteers Needed***
DESCRIPTION:Wisconsin National Guard and Wisconsin Hero Outdoors are teaming up to bring children ages 6-14 a fun day ice fishing on Bark Lake near Hubertus. American Legion Post 522 will be hosting the event. Volunteers are needed to support this event. You don’t have to know how to ice fish. We need help with registration and getting folks to/ from the ice.
URL:https://wiherooutdoors.org/calendar/wisconsin-national-guard-child-and-youth-ice-fishing
LOCATION:American Legion Post 522\, Hubertus\, WI
END:VEVENT
BEGIN:VEVENT
DTSTART;TZID=America/Chicago:20240923T080000
DTEND;TZID=America/Chicago:20240927T170000
DTSTAMP:20260425T085115
CREATED:20240111T000417Z
LAST-MODIFIED:20240111T000417Z
UID:1372-1727078400-1727456400@wiherooutdoors.org
SUMMARY:Camp American Legion
DESCRIPTION:
URL:https://wiherooutdoors.org/calendar/camp-american-legion-2
LOCATION:Camp American Legion\, 8529 County D\, Lake Tomahawk
END:VEVENT
BEGIN:VEVENT
DTSTART;TZID=America/Chicago:20240913T080000
DTEND;TZID=America/Chicago:20240915T170000
DTSTAMP:20260425T085115
CREATED:20240111T000328Z
LAST-MODIFIED:20240829T122730Z
UID:1370-1726214400-1726419600@wiherooutdoors.org
SUMMARY:Camping at Eau Galle Reservoir
DESCRIPTION:
URL:https://wiherooutdoors.org/calendar/camping-at-eau-galle-reservoir
LOCATION:Eau Galle Reservoir
END:VEVENT
BEGIN:VEVENT
DTSTART;TZID=America/Chicago:20240802T080000
DTEND;TZID=America/Chicago:20240803T170000
DTSTAMP:20260425T085115
CREATED:20240111T000245Z
LAST-MODIFIED:20240111T000245Z
UID:1368-1722585600-1722704400@wiherooutdoors.org
SUMMARY:Big Bass Battle
DESCRIPTION:
URL:https://wiherooutdoors.org/calendar/big-bass-battle-4
LOCATION:Okauchee Lion’s Park
END:VEVENT
BEGIN:VEVENT
DTSTART;TZID=America/Chicago:20240616T150000
DTEND;TZID=America/Chicago:20240618T150000
DTSTAMP:20260425T085115
CREATED:20240513T161046Z
LAST-MODIFIED:20240513T161150Z
UID:1408-1718550000-1718722800@wiherooutdoors.org
SUMMARY:Fort McCoy Canoe/ Kayak Fishing
DESCRIPTION:Who: 2 Members plus 1 age appropriate child to fish out of canoe/ kayak.What: Canoe / Kayak FishingWhen: 16 – 18 June 2024Where: Ft McCoy WISpecies: Bass and Pan FishThis will be a two night trip staying in a camper at Ft McCoyPineview Campgrounds.You need to be comfortable using a canoe and or kayak. The kayaks are pedal style units. There is limited fishing rods and equipment available.All lodging\, meals\, and bait will be provided starting with dinner on Sunday through breakfast on Tuesday.Member requirements: Valid WI fishing license and a Ft McCoy fishing license (optional inland Trout Stamp).Packing list and trip plan will be provided to the winners.Prior to entering you are required to ensure your attendance. Should something come upafter you enter\, please notify us on our website.\nTo submit for the trip\, proceed to Wisconsin Hero Outdoors website\, select Get Involved and complete the form. If you are requesting to bring your child\, please include age and gender of the child. All entries are due NLT COB May 27th. Those selected will be notified NLT May 29th and will have 48 hours from notification to confirm availability.\nhttps://wiherooutdoors.org/get-involved
URL:https://wiherooutdoors.org/calendar/fort-mccoy-canoe-kayak-fishing
END:VEVENT
BEGIN:VEVENT
DTSTART;TZID=America/Chicago:20240612T080000
DTEND;TZID=America/Chicago:20240615T170000
DTSTAMP:20260425T085115
CREATED:20240111T000200Z
LAST-MODIFIED:20240111T000200Z
UID:1366-1718179200-1718470800@wiherooutdoors.org
SUMMARY:Ride For Veterans
DESCRIPTION:
URL:https://wiherooutdoors.org/calendar/ride-for-veterans
END:VEVENT
BEGIN:VEVENT
DTSTART;TZID=America/Chicago:20240515T170000
DTEND;TZID=America/Chicago:20240515T180000
DTSTAMP:20260425T085115
CREATED:20240521T205609Z
LAST-MODIFIED:20240521T205609Z
UID:1418-1715792400-1715796000@wiherooutdoors.org
SUMMARY:Hike Lapham
DESCRIPTION:
URL:https://wiherooutdoors.org/calendar/hike-lapham-3
LOCATION:Lapham Peak
END:VEVENT
BEGIN:VEVENT
DTSTART;TZID=America/Chicago:20240503T080000
DTEND;TZID=America/Chicago:20240505T170000
DTSTAMP:20260425T085115
CREATED:20240111T000115Z
LAST-MODIFIED:20240111T000115Z
UID:1363-1714723200-1714928400@wiherooutdoors.org
SUMMARY:Women's Retreat
DESCRIPTION:
URL:https://wiherooutdoors.org/calendar/womens-retreat
LOCATION:Lake Geneva
END:VEVENT
BEGIN:VEVENT
DTSTART;TZID=America/Chicago:20240424T170000
DTEND;TZID=America/Chicago:20240424T180000
DTSTAMP:20260425T085115
CREATED:20240521T205112Z
LAST-MODIFIED:20240521T205112Z
UID:1416-1713978000-1713981600@wiherooutdoors.org
SUMMARY:Hike Lapham
DESCRIPTION:
URL:https://wiherooutdoors.org/calendar/hike-lapham-2
LOCATION:Lapham Peak
END:VEVENT
BEGIN:VEVENT
DTSTART;TZID=America/Chicago:20240417T170000
DTEND;TZID=America/Chicago:20240417T180000
DTSTAMP:20260425T085115
CREATED:20240521T205027Z
LAST-MODIFIED:20240521T205027Z
UID:1413-1713373200-1713376800@wiherooutdoors.org
SUMMARY:Hike Lapham
DESCRIPTION:
URL:https://wiherooutdoors.org/calendar/hike-lapham
LOCATION:Lapham Peak
END:VEVENT
BEGIN:VEVENT
DTSTART;TZID=America/Chicago:20240224T120000
DTEND;TZID=America/Chicago:20240224T140000
DTSTAMP:20260425T085115
CREATED:20240214T213825Z
LAST-MODIFIED:20240220T190616Z
UID:1380-1708776000-1708783200@wiherooutdoors.org
SUMMARY:Beekeeping Education/Training
DESCRIPTION:Join us for a FREE Beekeeping Training and Education Event with Award-Winning Doug Koltermann of Koltermann Farms! \nDoug Koltermann\, President of the Walworth County Beekeepers Association and a Board Member of the Wisconsin Honey Producers Association\, will be our esteemed mentor. This unique event will blend classroom learning with practical field experience\, so dress appropriately for both settings. \n\nMaximum Participants: 30 individuals\n\nAgenda: \n\nLearn beekeeping techniques from Doug Koltermann.\nExplore both classroom and field aspects of beekeeping.\nEnjoy a delicious pizza lunch provided during the event.\n\nDon’t miss this opportunity to learn from an industry expert and connect with fellow bee enthusiasts! \nRSVP: efalkner@wiherooutdoors.org \nMust register for this FREE event by Thursday Feb 22 at 10pm. \nPlease be sure to include Full name\, Email address\, Branch and Years of Service or Fire/Police Department serving (ed). \nWisconsin Hero Outdoors: W329 S690 Hwy C\, Delafield WI
URL:https://wiherooutdoors.org/calendar/beekeeping-education-training
LOCATION:Wisconsin Hero Outdoors HQ
END:VEVENT
BEGIN:VEVENT
DTSTART;TZID=America/Chicago:20240217T080000
DTEND;TZID=America/Chicago:20240217T130000
DTSTAMP:20260425T085115
CREATED:20240111T000026Z
LAST-MODIFIED:20240111T000026Z
UID:1361-1708156800-1708174800@wiherooutdoors.org
SUMMARY:Ice Fishing
DESCRIPTION:
URL:https://wiherooutdoors.org/calendar/ice-fishing-14
LOCATION:Whitewater\, WI
END:VEVENT
BEGIN:VEVENT
DTSTART;VALUE=DATE:20240209
DTEND;VALUE=DATE:20240212
DTSTAMP:20260425T085115
CREATED:20231106T203024Z
LAST-MODIFIED:20231106T203024Z
UID:1302-1707436800-1707695999@wiherooutdoors.org
SUMMARY:Sturgeon Spearing
DESCRIPTION:
URL:https://wiherooutdoors.org/calendar/sturgeon-spearing-3
LOCATION:Lake Winnebago
END:VEVENT
BEGIN:VEVENT
DTSTART;TZID=America/Chicago:20240120T083000
DTEND;TZID=America/Chicago:20240120T123000
DTSTAMP:20260425T085115
CREATED:20240110T235918Z
LAST-MODIFIED:20240110T235918Z
UID:1358-1705739400-1705753800@wiherooutdoors.org
SUMMARY:Learn to Curl
DESCRIPTION:
URL:https://wiherooutdoors.org/calendar/learn-to-curl-2
LOCATION:Kettle Moraine Curling Club
END:VEVENT
BEGIN:VEVENT
DTSTART;VALUE=DATE:20240112
DTEND;VALUE=DATE:20240116
DTSTAMP:20260425T085115
CREATED:20231106T202827Z
LAST-MODIFIED:20231106T202827Z
UID:1300-1705017600-1705363199@wiherooutdoors.org
SUMMARY:3rd Annual Winter Event at Camp American Legion
DESCRIPTION:
URL:https://wiherooutdoors.org/calendar/3rd-annual-winter-event-at-camp-american-legion
LOCATION:Camp American Legion\, 8529 County D\, Lake Tomahawk
END:VEVENT
BEGIN:VEVENT
DTSTART;VALUE=DATE:20231225
DTEND;VALUE=DATE:20231226
DTSTAMP:20260425T085115
CREATED:20231110T021924Z
LAST-MODIFIED:20231110T021924Z
UID:1354-1703462400-1703548799@wiherooutdoors.org
SUMMARY:Christmas
DESCRIPTION:
URL:https://wiherooutdoors.org/calendar/christmas
END:VEVENT
BEGIN:VEVENT
DTSTART;VALUE=DATE:20231111
DTEND;VALUE=DATE:20231112
DTSTAMP:20260425T085115
CREATED:20231106T214644Z
LAST-MODIFIED:20231109T154705Z
UID:1309-1699660800-1699747199@wiherooutdoors.org
SUMMARY:Veteran's Day
DESCRIPTION:
URL:https://wiherooutdoors.org/calendar/veterans-day
END:VEVENT
BEGIN:VEVENT
DTSTART;VALUE=DATE:20231014
DTEND;VALUE=DATE:20231015
DTSTAMP:20260425T085115
CREATED:20230928T211523Z
LAST-MODIFIED:20230928T211523Z
UID:1289-1697241600-1697327999@wiherooutdoors.org
SUMMARY:WOVIN's Women Veteran Fall Wellness Event
DESCRIPTION:
URL:https://wiherooutdoors.org/calendar/wovins-women-veteran-fall-wellness-event
LOCATION:Camp Minikani Branch YMCA
END:VEVENT
BEGIN:VEVENT
DTSTART;TZID=America/Chicago:20231012T100000
DTEND;TZID=America/Chicago:20231012T140000
DTSTAMP:20260425T085115
CREATED:20230928T211015Z
LAST-MODIFIED:20230928T211015Z
UID:1287-1697104800-1697119200@wiherooutdoors.org
SUMMARY:Kayaking
DESCRIPTION:
URL:https://wiherooutdoors.org/calendar/kayaking-11
LOCATION:Pewaukee Lake
END:VEVENT
BEGIN:VEVENT
DTSTART;VALUE=DATE:20230805
DTEND;VALUE=DATE:20230806
DTSTAMP:20260425T085115
CREATED:20230314T153209Z
LAST-MODIFIED:20230314T153209Z
UID:1261-1691193600-1691279999@wiherooutdoors.org
SUMMARY:Big Bass Battle
DESCRIPTION:
URL:https://wiherooutdoors.org/calendar/big-bass-battle-3
LOCATION:Okauchee Lion’s Park
END:VEVENT
BEGIN:VEVENT
DTSTART;TZID=America/Chicago:20230717T080000
DTEND;TZID=America/Chicago:20230719T170000
DTSTAMP:20260425T085115
CREATED:20230322T165505Z
LAST-MODIFIED:20230322T165505Z
UID:1265-1689580800-1689786000@wiherooutdoors.org
SUMMARY:Turtle-Flambeau Flowage
DESCRIPTION:Details: TBD
URL:https://wiherooutdoors.org/calendar/turtle-flambeau-flowage
LOCATION:Turtle Flowage
END:VEVENT
BEGIN:VEVENT
DTSTART;VALUE=DATE:20230617
DTEND;VALUE=DATE:20230618
DTSTAMP:20260425T085115
CREATED:20230314T143158Z
LAST-MODIFIED:20230605T170114Z
UID:1257-1686960000-1687046399@wiherooutdoors.org
SUMMARY:4th Annual Charity Ride
DESCRIPTION:The 4th Annual Charity Ride will start at Wisconsin Harley-Davidson\, and end at Boondocks Bbq & Brew for food and our fabulous raffle. This years musical guest will be The Black Sheep MKE. \nAll money raised goes to support the Wisconsin Hero Outdoor mission. Come out\, support our Veterans\, and have some fun!! \nEvent details: \nDate: 17 June 2023\nRegistration will be at: Wisconsin Harley-Davidson\nfrom 9:30 Am-11:00 Am\n$25.00 per person-Fee includes your post ride meal at Boondocks BBQ\, Burgers & Brew and your punch card for this years poker run. \nProgram Starts at: 11:00 \nKick stands up at 11:30 \nWe will all ride out together as a complete group to Knuckleheads in Eagle following our formal program. \nOnce we arrive at Knuckleheads folks can grab food\, drink and participate in the days first 50/50. After the 50/50\, folks can disburse with their groups and hit the stops identified on the punch cards. \nPunch stops are as follows:\nKnucklehead Pub\nHot Rod Bar & Grill-Palmyra\nDig-n-Kat’s\nWisconsin Hero Outdoors\nBoozhag’s Clubhouse \nFinal Stop (non-punch stop):\nBoondocks Bbq & Brew for the post ride party!! \nAt 4:30 the poker tent will be operational at Boondocks. Bring your punch card to the tent and you will be issued cards based on the number of punches. (for example if you only hit 3 of the poker run stops\, you would only receive 3 cards) it pays to stop at all 5 stops through out the day and get your ticket punched. After the initial draw of cards you will have the opportunity to purchase two more cards for $10.00 to put together the best 5 card hand. The winner will win the Grand Prize and winner will be announced following the raffle draws. Raffle draw to begin at 6:00 pm. \nIf you cant make the ride\, no problem\, come out to Boondocks at 5:00 Pm and participate in the music and onsite Raffle.
URL:https://wiherooutdoors.org/calendar/4th-annual-charity-ride
LOCATION:Wisconsin Harley Davidson
END:VEVENT
BEGIN:VEVENT
DTSTART;TZID=America/Chicago:20230610T090000
DTEND;TZID=America/Chicago:20230610T150000
DTSTAMP:20260425T085115
CREATED:20230605T165928Z
LAST-MODIFIED:20230605T165928Z
UID:1275-1686387600-1686409200@wiherooutdoors.org
SUMMARY:Kayaking
DESCRIPTION:
URL:https://wiherooutdoors.org/calendar/kayaking-10
END:VEVENT
BEGIN:VEVENT
DTSTART;TZID=America/Chicago:20230604T090000
DTEND;TZID=America/Chicago:20230604T140000
DTSTAMP:20260425T085115
CREATED:20230605T165852Z
LAST-MODIFIED:20230605T165852Z
UID:1273-1685869200-1685887200@wiherooutdoors.org
SUMMARY:Kayaking & Fishing
DESCRIPTION:
URL:https://wiherooutdoors.org/calendar/kayaking-fishing-3
END:VEVENT
BEGIN:VEVENT
DTSTART;TZID=America/Chicago:20230528T080000
DTEND;TZID=America/Chicago:20230528T113000
DTSTAMP:20260425T085115
CREATED:20230605T170333Z
LAST-MODIFIED:20230605T170333Z
UID:1279-1685260800-1685273400@wiherooutdoors.org
SUMMARY:Memorial Day 5k Belfredom
DESCRIPTION:
URL:https://wiherooutdoors.org/calendar/memorial-day-5k-belfredom
LOCATION:Delafield\, WI
END:VEVENT
BEGIN:VEVENT
DTSTART;TZID=America/Chicago:20230220T170000
DTEND;TZID=America/Chicago:20230220T213000
DTSTAMP:20260425T085115
CREATED:20230314T143103Z
LAST-MODIFIED:20230314T143103Z
UID:1254-1676912400-1676928600@wiherooutdoors.org
SUMMARY:Sportsman's Night at Boondocks BBQ\, Burgers & Brews
DESCRIPTION:
URL:https://wiherooutdoors.org/calendar/sportsmans-night-at-boondocks-bbq-burgers-brews
LOCATION:Boondocks BBQ\, Burgers & Brews
END:VEVENT
BEGIN:VEVENT
DTSTART;TZID=America/Chicago:20230212T080000
DTEND;TZID=America/Chicago:20230212T170000
DTSTAMP:20260425T085115
CREATED:20230314T142944Z
LAST-MODIFIED:20230314T142944Z
UID:1251-1676188800-1676221200@wiherooutdoors.org
SUMMARY:Ice Fishing
DESCRIPTION:
URL:https://wiherooutdoors.org/calendar/ice-fishing-13
LOCATION:Whitewater\, WI
END:VEVENT
BEGIN:VEVENT
DTSTART;TZID=America/Chicago:20230210T080000
DTEND;TZID=America/Chicago:20230212T170000
DTSTAMP:20260425T085115
CREATED:20230314T142845Z
LAST-MODIFIED:20230314T142845Z
UID:1249-1676016000-1676221200@wiherooutdoors.org
SUMMARY:3rd Annual Sturgeon Spearing Event
DESCRIPTION:
URL:https://wiherooutdoors.org/calendar/3rd-annual-sturgeon-spearing-event
LOCATION:Lake Winnebago
END:VEVENT
BEGIN:VEVENT
DTSTART;TZID=America/Chicago:20230121T083000
DTEND;TZID=America/Chicago:20230121T120000
DTSTAMP:20260425T085115
CREATED:20221213T223057Z
LAST-MODIFIED:20221213T223057Z
UID:1237-1674289800-1674302400@wiherooutdoors.org
SUMMARY:Learn to Curl
DESCRIPTION:
URL:https://wiherooutdoors.org/calendar/learn-to-curl
END:VEVENT
BEGIN:VEVENT
DTSTART;TZID=America/Chicago:20230113T080000
DTEND;TZID=America/Chicago:20230116T170000
DTSTAMP:20260425T085115
CREATED:20230314T142701Z
LAST-MODIFIED:20230314T142701Z
UID:1247-1673596800-1673888400@wiherooutdoors.org
SUMMARY:2nd Annual Winter Event
DESCRIPTION:
URL:https://wiherooutdoors.org/calendar/2nd-annual-winter-event
LOCATION:Camp American Legion\, 8529 County D\, Lake Tomahawk
END:VEVENT
END:VCALENDAR