BEGIN:VCALENDAR
VERSION:2.0
PRODID:-//Wisconsin Hero Outdoors - ECPv6.15.18//NONSGML v1.0//EN
CALSCALE:GREGORIAN
METHOD:PUBLISH
X-WR-CALNAME:Wisconsin Hero Outdoors
X-ORIGINAL-URL:https://wiherooutdoors.org
X-WR-CALDESC:Events for Wisconsin Hero Outdoors
REFRESH-INTERVAL;VALUE=DURATION:PT1H
X-Robots-Tag:noindex
X-PUBLISHED-TTL:PT1H
BEGIN:VTIMEZONE
TZID:America/Chicago
BEGIN:DAYLIGHT
TZOFFSETFROM:-0600
TZOFFSETTO:-0500
TZNAME:CDT
DTSTART:20250309T080000
END:DAYLIGHT
BEGIN:STANDARD
TZOFFSETFROM:-0500
TZOFFSETTO:-0600
TZNAME:CST
DTSTART:20251102T070000
END:STANDARD
BEGIN:DAYLIGHT
TZOFFSETFROM:-0600
TZOFFSETTO:-0500
TZNAME:CDT
DTSTART:20260308T080000
END:DAYLIGHT
BEGIN:STANDARD
TZOFFSETFROM:-0500
TZOFFSETTO:-0600
TZNAME:CST
DTSTART:20261101T070000
END:STANDARD
BEGIN:DAYLIGHT
TZOFFSETFROM:-0600
TZOFFSETTO:-0500
TZNAME:CDT
DTSTART:20270314T080000
END:DAYLIGHT
BEGIN:STANDARD
TZOFFSETFROM:-0500
TZOFFSETTO:-0600
TZNAME:CST
DTSTART:20271107T070000
END:STANDARD
END:VTIMEZONE
BEGIN:VEVENT
DTSTART;TZID=America/Chicago:20260518T050000
DTEND;TZID=America/Chicago:20260518T100000
DTSTAMP:20260423T070807
CREATED:20250527T174614Z
LAST-MODIFIED:20260421T173317Z
UID:1634-1779080400-1779098400@wiherooutdoors.org
SUMMARY:Salmon Fishing
DESCRIPTION:🎣 Salmon Fishing on Lake Michigan out of Kenosha\, WI – May 18\, 2026 🎣 \n\nWe’re excited to get back on the water May 18th\, 2026 for an unforgettable salmon fishing trip with Wisconsin Hero Outdoors\, teaming up with Stellar Charters out of Kenosha! \nThis trip is all about camaraderie\, fresh air\, and the thrill of chasing powerful Lake Michigan salmon. \nWe have three openings for this trip. \nTight lines\, great company\, and memories that last a lifetime — this is what it’s all about. 🇺🇸🎣 \n📍 Kenosha\, WI\n📅 May 18\, 2026 at 0500 sharp! \nPlease complete Participation Form and select the appropriate trip. \nBoat leaves promptly at 0500. You will be responsible for your license and any refreshments you wish to consume on the charter. \n#WisconsinHeroOutdoors #StellarCharters #LakeMichiganSalmon #SalmonFishing #VeteransOnTheWater #HeroesOutdoors #TightLines
URL:https://wiherooutdoors.org/calendar/salmon-fishing
LOCATION:Kenosha
END:VEVENT
BEGIN:VEVENT
DTSTART;TZID=America/Chicago:20260601T050000
DTEND;TZID=America/Chicago:20260601T100000
DTSTAMP:20260423T070807
CREATED:20260421T173012Z
LAST-MODIFIED:20260421T173400Z
UID:1712-1780290000-1780308000@wiherooutdoors.org
SUMMARY:Salmon Fishing out of Port Washington
DESCRIPTION:🎣 Salmon Fishing on Lake Michigan out of Port Washington\, WI – June 1st\, 2026 🎣 \n\nWe’re excited to get back on the water June 1st\, 2026 for an unforgettable salmon fishing trip with Wisconsin Hero Outdoors\, teaming up with Fin and Fly Sportfishing out of Port Washington\, WI! \nThis trip is all about camaraderie\, fresh air\, and the thrill of chasing powerful Lake Michigan salmon. \nWe have four openings for this trip. \nTight lines\, great company\, and memories that last a lifetime — this is what it’s all about. 🇺🇸🎣 \n📍 Port Washington\, WI\n📅 May 18\, 2026 at 0500 sharp! \nPlease complete the Participation form and select the appropriate trip. \nBoat leaves promptly at 0500. You will be responsible for your license and any refreshments you wish to consume on the charter. \n#WisconsinHeroOutdoors #Finnflysportfishing#LakeMichiganSalmon #SalmonFishing #VeteransOnTheWater #HeroesOutdoors #TightLines
URL:https://wiherooutdoors.org/calendar/salmon-fishing-out-of-port-washington
END:VEVENT
END:VCALENDAR